BEGIN:VCALENDAR
VERSION:2.0
PRODID:-//Šachový klub v Kralupech nad Vltavou - ECPv6.15.20//NONSGML v1.0//EN
CALSCALE:GREGORIAN
METHOD:PUBLISH
X-WR-CALNAME:Šachový klub v Kralupech nad Vltavou
X-ORIGINAL-URL:https://sachykralupy.cz
X-WR-CALDESC:Akce na Šachový klub v Kralupech nad Vltavou
REFRESH-INTERVAL;VALUE=DURATION:PT1H
X-Robots-Tag:noindex
X-PUBLISHED-TTL:PT1H
BEGIN:VTIMEZONE
TZID:Europe/Helsinki
BEGIN:DAYLIGHT
TZOFFSETFROM:+0200
TZOFFSETTO:+0300
TZNAME:EEST
DTSTART:20250330T010000
END:DAYLIGHT
BEGIN:STANDARD
TZOFFSETFROM:+0300
TZOFFSETTO:+0200
TZNAME:EET
DTSTART:20251026T010000
END:STANDARD
BEGIN:DAYLIGHT
TZOFFSETFROM:+0200
TZOFFSETTO:+0300
TZNAME:EEST
DTSTART:20260329T010000
END:DAYLIGHT
BEGIN:STANDARD
TZOFFSETFROM:+0300
TZOFFSETTO:+0200
TZNAME:EET
DTSTART:20261025T010000
END:STANDARD
BEGIN:DAYLIGHT
TZOFFSETFROM:+0200
TZOFFSETTO:+0300
TZNAME:EEST
DTSTART:20270328T010000
END:DAYLIGHT
BEGIN:STANDARD
TZOFFSETFROM:+0300
TZOFFSETTO:+0200
TZNAME:EET
DTSTART:20271031T010000
END:STANDARD
END:VTIMEZONE
BEGIN:VEVENT
DTSTART;TZID=Europe/Helsinki:20260426T080000
DTEND;TZID=Europe/Helsinki:20260426T170000
DTSTAMP:20260419T155023
CREATED:20260415T222509Z
LAST-MODIFIED:20260415T223122Z
UID:1227-1777190400-1777222800@sachykralupy.cz
SUMMARY:1. liga mládeže 'A' - 11. kolo
DESCRIPTION:VHS PROJEKT Kralupy : TJ Kobylisy
URL:https://sachykralupy.cz/event/1-liga-mladeze-a-11-kolo/
CATEGORIES:Mládež
END:VEVENT
END:VCALENDAR